Workbook

Sheet BUDGET
A1: PROJEKTTITEL
A3: Nr. | B3: Organisation | C3: P-nr. | D3: Type | E3: OH % | F3: Støtte % | G3: 2027 | I3: Løn omregnet til timer | J3: Kr. ekskl. OH | K3: Kr. inkl. OH | L3: Kr. støtte fra LDC
G4: Løn | H4: Overhead
A5: 1 | B5: Virk | D5: VIRK De minimis | E5: =IFERROR(VLOOKUP(D5,Tabeller!$A$1:$C$7,2,FALSE),"") -> 0.4 | F5: =IFERROR(VLOOKUP(D5,Tabeller!$A$1:$C$7,3,FALSE),"") -> 0.7 | G5: 51346.939 | H5: =IFERROR(G5*E5,"") -> 20538.776 | I5: =G5/406 -> 126.47029 | J5: =G5 -> 51346.939 | K5: =SUM(G5:H5) -> 71885.714 | L5: =IFERROR(K5*F5,"") -> 50320
A6: 2 | B6: Viden | D6: VIDENINSTITUTION | E6: =IFERROR(VLOOKUP(D6,Tabeller!$A$1:$C$7,2,FALSE),"") -> 0.44 | F6: =IFERROR(VLOOKUP(D6,Tabeller!$A$1:$C$7,3,FALSE),"") -> 1 | G6: 34500 | H6: =IFERROR(G6*E6,"") -> 15180 | I6: =G6/406 -> 84.975369 | J6: =G6 -> 34500 | K6: =SUM(G6:H6) -> 49680 | L6: =IFERROR(K6*F6,"") -> 49680
A7: 3 | E7: =IFERROR(VLOOKUP(D7,Tabeller!$A$1:$C$7,2,FALSE),"") | F7: =IFERROR(VLOOKUP(D7,Tabeller!$A$1:$C$7,3,FALSE),"") | H7: =IFERROR(G7*E7,"") | I7: =G7/406 -> 0 | J7: =G7 -> 0 | K7: =SUM(G7:H7) -> 0 | L7: =IFERROR(K7*F7,"")
A8: TOTAL | G8: =SUM(G5:G7) -> 85846.939 | H8: =SUMIF(H5:H7,"<>#I/T") -> 35718.776 | I8: =SUM(I5:I7) -> 211.44566 | J8: =SUM(J5:J7) -> 85846.939 | K8: =SUMIF(K5:K7,"<>#I/T") -> 121565.71 | L8: =SUMIF(L5:L7,"<>#I/T") -> 100000
I10: OPSUMMERING
I11: TYPE | K11: Budget | L11: Støtte
I12: Videninstitutioner | K12: =SUMIF($D$5:$D$7,"VIDENINSTITUTION",K$5:K$7) -> 49680 | L12: =SUMIF($D$5:$D$7,"VIDENINSTITUTION",L$5:L$7) -> 49680
I13: GTS | K13: =SUMIF($D$5:$D$7,"GTS",K$5:K$7) -> 0 | L13: =SUMIF($D$5:$D$7,"GTS",L$5:L$7) -> 0
I14: Virksomheder de minimis | K14: =SUMIF($D$5:$D$7,"VIRK De minimis",K$5:K$7) -> 71885.714 | L14: =SUMIF($D$5:$D$7,"VIRK De minimis",L$5:L$7) -> 50320
I15: Virksomheder gruppefritagelse | K15: =SUMIF($D$5:$D$7,"VIRK STOR Gruppefritagelse",K$5:K$7)+SUMIF($D$5:$D$7,"VIRK LILLE Gruppefritagelse",K$5:K$7)+SUMIF($D$5:$D$7,"VIRK MELLEM Gruppefritagelse",K$5:K$7) -> 0 | L15: =SUMIF($D$5:$D$7,"VIRK STOR Gruppefritagelse",L$5:L$7)+SUMIF($D$5:$D$7,"VIRK LILLE Gruppefritagelse",L$5:L$7)+SUMIF($D$5:$D$7,"VIRK MELLEM Gruppefritagelse",L$5:L$7) -> 0
I16: TOTAL | K16: =SUM(K12:K15) -> 121565.71 | L16: =SUM(L12:L15) -> 100000
I17: BUDGET FORDELT PÅ ÅR
I18: 2027 | K18: =SUM(G8,H8) -> 121565.71

Sheet Vejledning

Sheet Eksempel

Sheet Tabeller
A1: Type | B1: Overhead% | C1: Støtte%
A2: VIRK De minimis | B2: 0.4 | C2: 0.7
A3: VIRK STOR Gruppefritagelse | B3: 0.2 | C3: 0.4
A4: VIRK MELLEM Gruppefritagelse | B4: 0.2 | C4: 0.5
A5: VIRK LILLE Gruppefritagelse | B5: 0.2 | C5: 0.6
A6: VIDENINSTITUTION | B6: 0.44 | C6: 1
A7: GTS | B7: 0 | C7: 1
